BEGIN:VCALENDAR
VERSION:2.0
PRODID:-//eventon.com NONSGML v1.0//EN
BEGIN:VEVENT
UID:69e739432da79
DTSTAMP:20260421T104555
DTSTART:20240109T170000Z
DTEND:20240109T215000Z
LOCATION:Seidenweberhaus Theaterplatz. 1\,  47798 Krefeld
SUMMARY:Verleihung des närrischen Steckenpferdes\,  Prinzengarde der Stadt Krefeld 1914 e.V. im Seidenweberhaus
DESCRIPTION: Verleihung des närrischen Steckenpferdes\,  Prinzengarde der Stadt Krefeld 1914 e.V. im Seidenweberhaus
END:VEVENT
END:VCALENDAR