BEGIN:VCALENDAR
VERSION:2.0
PRODID:-//eventon.com NONSGML v1.0//EN
BEGIN:VEVENT
UID:69e5e987b0dd5
DTSTAMP:20260420T105327
DTSTART:20231222T160000Z
DTEND:20231222T215000Z
LOCATION:
SUMMARY:Tradioneller Glühweintreff auf dem Krefelder Weihnachtsmarkt
DESCRIPTION: Tradioneller Glühweintreff auf dem Krefelder Weihnachtsmarkt
END:VEVENT
END:VCALENDAR