BEGIN:VCALENDAR
VERSION:2.0
PRODID:-//eventon.com NONSGML v1.0//EN
BEGIN:VEVENT
UID:69e73b418b3b8
DTSTAMP:20260421T105425
DTSTART:20170226T220000Z
DTEND:20170227T215900Z
LOCATION:
SUMMARY:Rosenmontag
DESCRIPTION: Rosenmontag
END:VEVENT
END:VCALENDAR