BEGIN:VCALENDAR
VERSION:2.0
PRODID:-//eventon.com NONSGML v1.0//EN
BEGIN:VEVENT
UID:69e5e85868498
DTSTAMP:20260420T104824
DTSTART:20170212T080000Z
DTEND:20170211T220000Z
LOCATION:Seidenweberhaus Theaterplatz. 1\,  47798 Krefeld
SUMMARY:Herrensitzung der 78'er\,  Seidenweberhaus
DESCRIPTION: Herrensitzung der 78'er\,  Seidenweberhaus
END:VEVENT
END:VCALENDAR