BEGIN:VCALENDAR
VERSION:2.0
PRODID:-//eventon.com NONSGML v1.0//EN
BEGIN:VEVENT
UID:69e5e95fc9dd2
DTSTAMP:20260420T105247
DTSTART:20170211T170000Z
DTEND:20170210T220000Z
LOCATION:Stadtwaldhaus Hüttenallee 108\,  47800 Krefeld
SUMMARY:XVI. Köstumparty bei unseren Freunden der Rosa Jecken\,  Stadtwaldhaus
DESCRIPTION: XVI. Köstumparty bei unseren Freunden der Rosa Jecken\,  Stadtwaldhaus
END:VEVENT
END:VCALENDAR